BEGIN:VCALENDAR
VERSION:2.0
PRODID:-//Cars and Coffee Darien - ECPv6.15.20//NONSGML v1.0//EN
CALSCALE:GREGORIAN
METHOD:PUBLISH
X-WR-CALNAME:Cars and Coffee Darien
X-ORIGINAL-URL:https://carsandcoffeedarien.com
X-WR-CALDESC:Events for Cars and Coffee Darien
REFRESH-INTERVAL;VALUE=DURATION:PT1H
X-Robots-Tag:noindex
X-PUBLISHED-TTL:PT1H
BEGIN:VTIMEZONE
TZID:America/New_York
BEGIN:DAYLIGHT
TZOFFSETFROM:-0500
TZOFFSETTO:-0400
TZNAME:EDT
DTSTART:20230312T070000
END:DAYLIGHT
BEGIN:STANDARD
TZOFFSETFROM:-0400
TZOFFSETTO:-0500
TZNAME:EST
DTSTART:20231105T060000
END:STANDARD
BEGIN:DAYLIGHT
TZOFFSETFROM:-0500
TZOFFSETTO:-0400
TZNAME:EDT
DTSTART:20240310T070000
END:DAYLIGHT
BEGIN:STANDARD
TZOFFSETFROM:-0400
TZOFFSETTO:-0500
TZNAME:EST
DTSTART:20241103T060000
END:STANDARD
BEGIN:DAYLIGHT
TZOFFSETFROM:-0500
TZOFFSETTO:-0400
TZNAME:EDT
DTSTART:20250309T070000
END:DAYLIGHT
BEGIN:STANDARD
TZOFFSETFROM:-0400
TZOFFSETTO:-0500
TZNAME:EST
DTSTART:20251102T060000
END:STANDARD
END:VTIMEZONE
BEGIN:VEVENT
DTSTART;TZID=America/New_York:20240817T080000
DTEND;TZID=America/New_York:20240817T110000
DTSTAMP:20260425T150416
CREATED:20240716T132835Z
LAST-MODIFIED:20240812T190446Z
UID:10000010-1723881600-1723892400@carsandcoffeedarien.com
SUMMARY:Cars and Coffee at Bocca Motors
DESCRIPTION:Please join us for the very first Cars and Coffee Darien event at Bocca Motors in Bethel\, CT. \nIf you didn’t make it to the grand opening on July 27th\, you’ll be amazed at this brand new facility.  There’s a 5 acre \, obstruction-free paved parking lot\, a storage / event space\, and full automotive services on site. Show off your car or motorcycle and walk around the grounds. There’s nothing like it anywhere in the Northeast. \nThere were over 1\,500 cars here and nearly 2\,000 spectators for the grand opening on the 27th so to better manage the crowds only cars with an ON-SITE ticket will be allowed to park on the property. On-site tickets are $10. Everyone else has to park on the street or in one of the adjacent lots. Food trucks will be available for coffee\, tea and something a little more substantial.
URL:https://carsandcoffeedarien.com/event/cars-and-coffee-darien-at-bocca-motors/
LOCATION:Bocca Motors\, 11 Francis J Clarke Circle\, Bethel\, CT\, 06801\, United States
ATTACH;FMTTYPE=image/jpeg:https://carsandcoffeedarien.com/wp-content/uploads/2024/07/Bocca-Motors.jpg
ORGANIZER;CN="Cars and Coffee Darien":MAILTO:shows@carsandcoffeedarien.com
END:VEVENT
BEGIN:VEVENT
DTSTART;TZID=America/New_York:20240811T070000
DTEND;TZID=America/New_York:20240811T103000
DTSTAMP:20260425T150416
CREATED:20231211T232651Z
LAST-MODIFIED:20240724T160512Z
UID:10000005-1723359600-1723372200@carsandcoffeedarien.com
SUMMARY:Cars and Coffee Darien August
DESCRIPTION:Join us for our August 11th\, 2024 event at Goodwives Shopping Center when we will be featuring Chrysler and Chrysler powered Cars: \nChrysler\nDodge\nPlymouth\nImperial\nLebaron\nDeSoto\nEagle\nRam Trucks\nChrysler Australia\nCunningham \nAs usual\, ALL MAKE AND MODELS ARE WELCOME but only vehicles fitting our theme will be eligible for a Theme Trophy.  Any entry can win Peoples Choice Trophy \nGates open at 6:30 am. To be eligible for a trophy\, your car must be on the field by 7:30 am. Judging begins at 8:00 am. Trophies will be awarded at 10:00 am \n\nTheme Trophies:\n\n1st Place\n2nd Place\n3rd Place\n\n\nPeoples Choice (anyone can win)\n\n50/50 raffle \n\n\n\nSpectators get 20% off their food purchases from Aux Delices.  Exhibitors get 20% off their food purchases and FREE COFFEE from Aux Delices.
URL:https://carsandcoffeedarien.com/event/cars-and-coffee-v/
LOCATION:Goodwives Shopping Center\, 25 Old Kings Highway North\, Darien\, CT\, 06820\, United States
ATTACH;FMTTYPE=image/jpeg:https://carsandcoffeedarien.com/wp-content/uploads/2023/12/Chrysler-Promo-1-1.jpg
ORGANIZER;CN="Cars and Coffee Darien":MAILTO:shows@carsandcoffeedarien.com
END:VEVENT
BEGIN:VEVENT
DTSTART;TZID=America/New_York:20240714T070000
DTEND;TZID=America/New_York:20240714T103000
DTSTAMP:20260425T150416
CREATED:20231211T232210Z
LAST-MODIFIED:20240701T175431Z
UID:10000004-1720940400-1720953000@carsandcoffeedarien.com
SUMMARY:Cars and Coffee Darien July
DESCRIPTION:Note that the “-” and “+” icons for buying tickets don’t work.  You must physically type in the number of tickets you want (in the space between the “+” and “-” icons on the form) before the Get Tickets button becomes clickable. \nJoin us for our July 14th\, 2024 event at Goodwives Shopping Center when we will be featuring General Motors and GM-powered cars from all over the world: \nBuick\nCadillac\nChevrolet\nGMC\nOldsmobile\nOpel\nPontiac\nSaturn\nHummer\nSaab\nLingenfelter\nYenko\nMotion\nHolden\nCallaway \nAs usual\, ALL MAKE AND MODELS ARE WELCOME but only vehicles fitting our theme will be eligible for a Theme Trophy.  Any entry can win Peoples Choice Trophy \nGates open at 6:30 am. To be eligible for a trophy\, your car must be on the field by 7:30 am. Judging begins at 8:00 am. Trophies will be awarded at 10:00 am \n\nTheme Trophies:\n\n1st Place\n2nd Place\n3rd Place\n\n\nPeoples Choice (anyone can win)\n\n50/50 raffle \n\n\n\nSpectators get 20% off their food purchases from Aux Delices.  Exhibitors get 20% off their food purchases and FREE COFFEE from Aux Delices.
URL:https://carsandcoffeedarien.com/event/cars-and-coffee-darien-iv/
LOCATION:Goodwives Shopping Center\, 25 Old Kings Highway North\, Darien\, CT\, 06820\, United States
ATTACH;FMTTYPE=image/jpeg:https://carsandcoffeedarien.com/wp-content/uploads/2024/06/GM-Promo-e1718630507447.jpg
ORGANIZER;CN="Cars and Coffee Darien":MAILTO:shows@carsandcoffeedarien.com
END:VEVENT
BEGIN:VEVENT
DTSTART;TZID=America/New_York:20240609T070000
DTEND;TZID=America/New_York:20240609T103000
DTSTAMP:20260425T150416
CREATED:20231211T231943Z
LAST-MODIFIED:20240608T123811Z
UID:10000003-1717916400-1717929000@carsandcoffeedarien.com
SUMMARY:Cars and Coffee Darien June
DESCRIPTION:Join us for our June 9th\, 2024 event at Goodwives Shopping Center when we will be featuring vehicles made by Ford and those that are Ford powered: \nAston Martin\nBricklin\nCaterham\nCortina\nDeTomaso\nEdsel\nFord (US)\nFord (Germany)\nFord (Australia)\nFord (British)\nGriffith\nItalia\nKurtis\nLincoln\nMercury\nMorgan\nMuntz Jet\nNoble\nShelby Cobra\nTVR\nUltima Sports\netc. \nAs usual\, ALL MAKE AND MODELS ARE WELCOME but only vehicles fitting our theme will be eligible for a Theme Trophy.  Any entry can win Peoples Choice Trophy \nGates open at 6:30 am. To be eligible for a trophy\, your car must be on the field by 7:30 am. Judging begins at 8:00 am. Trophies will be awarded at 10:00 am \n\nTheme Trophies:\n\n1st Place\n2nd Place\n3rd Place\n\n\nPeoples Choice (anyone can win)\n\n50/50 raffle \n\n\n\nSpectators get 20% off their food purchases from Aux Delices.  Exhibitors get 20% off their food purchases and FREE COFFEE from Aux Delices.\n\n\n\nNote that the “-” and “+” icons for tickets don’t work.  You must physically type in the number of tickets you want to buy before the Get Tickets button becomes clickable.
URL:https://carsandcoffeedarien.com/event/cars-and-coffee-darien-iii/
LOCATION:Goodwives Shopping Center\, 25 Old Kings Highway North\, Darien\, CT\, 06820\, United States
ATTACH;FMTTYPE=image/jpeg:https://carsandcoffeedarien.com/wp-content/uploads/2023/12/Ford-Promo.jpg
ORGANIZER;CN="Cars and Coffee Darien":MAILTO:shows@carsandcoffeedarien.com
END:VEVENT
BEGIN:VEVENT
DTSTART;TZID=America/New_York:20240519T070000
DTEND;TZID=America/New_York:20240519T103000
DTSTAMP:20260425T150416
CREATED:20231211T231822Z
LAST-MODIFIED:20240517T161426Z
UID:10000002-1716102000-1716114600@carsandcoffeedarien.com
SUMMARY:Cars and Coffee Darien May 19th
DESCRIPTION:Our May event has been postponed until May 19th due to inclement weather.  Join us NEXT Sunday at Goodwives Shopping Center when we will be featuring the cars of England and the United Kingdom: \nAC\nAston Martin\nAustin\nAustin-Healey\nBentley\nBristol\nDaimler\nHealey\nHumber\nJaguar\nLagonda\nLand Rover\nLotus\nMG\nMclaren\nMorgan\nMorris\nRange Rover\nRiley\nRolls-Royce\nRover\nSinger\nStandard\nSunbeam\nTriumph\nTVR\nVauxhall\nWolseley \nAs usual\, ALL MAKE AND MODELS ARE WELCOME but only vehicles fitting our theme will be eligible for a Theme Trophy.  Any entry can win Peoples Choice Trophy \nGates open at 6:30 am. To be eligible for a trophy\, your car must be on the field by 7:30 am. Judging begins at 8:00 am. Trophies will be awarded at 10:00 am \n\nTheme Trophies:\n\n1st Place\n2nd Place\n3rd Place\n\n\n\nPeoples Choice (anyone can win) \n“Top Hat” Award \n50/50 raffle \n\n\n\nSpectators get 20% off their food purchases from Aux Delices.  Exhibitors get 20% off their food purchases and FREE COFFEE from Aux Delices.\n\n\n\nNote that the “-” and “+” icons for tickets don’t work.  You must physically type in the number of tickets you want to buy before the Get Tickets button becomes clickable.
URL:https://carsandcoffeedarien.com/event/cars-and-coffee-darien-ii/
LOCATION:Goodwives Shopping Center\, 25 Old Kings Highway North\, Darien\, CT\, 06820\, United States
ATTACH;FMTTYPE=image/png:https://carsandcoffeedarien.com/wp-content/uploads/2023/09/Cars_Coffee_Darien_18_24_Final_Art_for_Patch.png
ORGANIZER;CN="Cars and Coffee Darien":MAILTO:shows@carsandcoffeedarien.com
END:VEVENT
BEGIN:VEVENT
DTSTART;TZID=America/New_York:20240414T070000
DTEND;TZID=America/New_York:20240414T103000
DTSTAMP:20260425T150416
CREATED:20231211T230029Z
LAST-MODIFIED:20240401T121219Z
UID:10000001-1713078000-1713090600@carsandcoffeedarien.com
SUMMARY:Cars and Coffee Darien April
DESCRIPTION:Join us for our 2nd season opener\, April 14th\, 2024 at Goodwives Shopping Center when we will be featuring German Marques: \nMercedes-Benz\nAudi\nBMW\nMINI\nVolkswagen\nPorsche\nDaimler AG\nBorgward\nWiesmann\nAlpina\nGumpert\nRuf Automobile \nAs usual\, ALL MAKE AND MODELS ARE WELCOME but only vehicles fitting our theme will be eligible for a Theme Trophy. \nGates open at 6:30 am. To be eligible for a trophy\, your car must be on the field by 7:30 am. Judging begins at 8:00 am. Trophies will be awarded at 10:00 am \n\nTheme Trophies:\n\n1st Place (plus $200 cash)\n2nd Place\n3rd Place\n\n\n\n50/50 raffle \n\n\n\nSpectators get 20% off their food purchases from Aux Delices.  Exhibitors get 20% off their food purchases and FREE COFFEE from Aux Delices.\n\n\n\nNote that the “-” and “+” icons for tickets don’t work.  You must physically type in the number of tickets you want to buy before the Get Tickets button becomes clickable.
URL:https://carsandcoffeedarien.com/event/cars-and-coffee-darien-season-opener/
LOCATION:Goodwives Shopping Center\, 25 Old Kings Highway North\, Darien\, CT\, 06820\, United States
ATTACH;FMTTYPE=image/png:https://carsandcoffeedarien.com/wp-content/uploads/2023/09/Cars_Coffee_Darien_18_24_Final_Art_for_Patch.png
ORGANIZER;CN="Cars and Coffee Darien":MAILTO:shows@carsandcoffeedarien.com
END:VEVENT
END:VCALENDAR